BEGIN:VCALENDAR
VERSION:2.0
PRODID:-//Nuffield Clinic - ECPv6.15.19//NONSGML v1.0//EN
CALSCALE:GREGORIAN
METHOD:PUBLISH
X-WR-CALNAME:Nuffield Clinic
X-ORIGINAL-URL:https://nuffieldclinic.com
X-WR-CALDESC:Events for Nuffield Clinic
REFRESH-INTERVAL;VALUE=DURATION:PT1H
X-Robots-Tag:noindex
X-PUBLISHED-TTL:PT1H
BEGIN:VTIMEZONE
TZID:Africa/Accra
BEGIN:STANDARD
TZOFFSETFROM:+0000
TZOFFSETTO:+0000
TZNAME:GMT
DTSTART:20230101T000000
END:STANDARD
END:VTIMEZONE
BEGIN:VEVENT
DTSTART;TZID=Africa/Accra:20241008T080000
DTEND;TZID=Africa/Accra:20241008T160000
DTSTAMP:20260424T004804
CREATED:20241008T150126Z
LAST-MODIFIED:20241014T195522Z
UID:2390-1728374400-1728403200@nuffieldclinic.com
SUMMARY:Free Arthritis and Breast Cancer Screening
DESCRIPTION:Join us at the Kaneshie Market Complex on October 12th\, 2024\, for a FREE Arthritis and Breast Cancer Screening event from 8 AM to 4 PM. \n\n\n\nOctober is Breast Cancer Awareness Month\, and early detection is crucial. If you’re experiencing joint inflammation or pain\, this event is also for you. Spread the word—Nuffield Clinic cares\, and we invite you to meet with our doctors on October 12th\, 2024. \n\n\n\nFor more information\, call 0503771983.Follow us @nuffieldclinic for updates and more health tips.
URL:https://nuffieldclinic.com/event/free-arthritis-and-breast-cancer-screening/
LOCATION:Kaneshie Market\, Kaneshie Market\, Accra\, Greater Accra\, Ghana
CATEGORIES:Medical Screening
ATTACH;FMTTYPE=image/jpeg:https://nuffieldclinic.com/wp-content/uploads/2024/10/Free-Arthritis-and-Breast-cancer-Screening.jpeg
ORGANIZER;CN="Nuffield Clinic":MAILTO:info@nuffieldclinic.com
END:VEVENT
END:VCALENDAR