BEGIN:VCALENDAR
VERSION:2.0
PRODID:-//Nuffield Clinic - ECPv6.15.19//NONSGML v1.0//EN
CALSCALE:GREGORIAN
METHOD:PUBLISH
X-WR-CALNAME:Nuffield Clinic
X-ORIGINAL-URL:https://nuffieldclinic.com
X-WR-CALDESC:Events for Nuffield Clinic
REFRESH-INTERVAL;VALUE=DURATION:PT1H
X-Robots-Tag:noindex
X-PUBLISHED-TTL:PT1H
BEGIN:VTIMEZONE
TZID:Africa/Accra
BEGIN:STANDARD
TZOFFSETFROM:+0000
TZOFFSETTO:+0000
TZNAME:GMT
DTSTART:20210101T000000
END:STANDARD
END:VTIMEZONE
BEGIN:VEVENT
DTSTART;TZID=Africa/Accra:20230123T090000
DTEND;TZID=Africa/Accra:20230123T150000
DTSTAMP:20260424T141224
CREATED:20241004T112354Z
LAST-MODIFIED:20241014T195622Z
UID:2216-1674464400-1674486000@nuffieldclinic.com
SUMMARY:Arthritis Awareness & Health Screening
DESCRIPTION:In partnership with Rotary Clubs of Accra- Spintex and Accra La East\, Nuffield Clinic is organising an Arthritis awareness and health screening program on the 28th of Jan 2023.\n\nThe venue is at our premises at No. 8 Sunkwa Road\, Osu\, Accra GA-032-8597.\n\nCome with your friends and family.
URL:https://nuffieldclinic.com/event/arthritis-awareness-health-screening/
LOCATION:Nuffield Clinic\, 8 Sunkwa Road\, Osu\, Accra\, Greater Accra\, GA-032\, Ghana
CATEGORIES:Medical Screening
ATTACH;FMTTYPE=image/jpeg:https://nuffieldclinic.com/wp-content/uploads/2024/10/Arthritis-Awareness-Health-Screening.jpeg
END:VEVENT
BEGIN:VEVENT
DTSTART;TZID=Africa/Accra:20221213T080000
DTEND;TZID=Africa/Accra:20221213T170000
DTSTAMP:20260424T141224
CREATED:20241004T114301Z
LAST-MODIFIED:20241014T195735Z
UID:2221-1670918400-1670950800@nuffieldclinic.com
SUMMARY:Wellness Walk and Bazaar
DESCRIPTION:
URL:https://nuffieldclinic.com/event/wellness-walk-and-baazaar/
LOCATION:Nuffield Clinic\, 8 Sunkwa Road\, Osu\, Accra\, Greater Accra\, GA-032\, Ghana
CATEGORIES:Health Walk
ATTACH;FMTTYPE=image/jpeg:https://nuffieldclinic.com/wp-content/uploads/2024/10/Wellness-Walk-and-Baazaar.jpeg
END:VEVENT
BEGIN:VEVENT
DTSTART;TZID=Africa/Accra:20221104T080000
DTEND;TZID=Africa/Accra:20221104T170000
DTSTAMP:20260424T141224
CREATED:20241004T121903Z
LAST-MODIFIED:20241014T195756Z
UID:2234-1667548800-1667581200@nuffieldclinic.com
SUMMARY:Health Wellness & Screening
DESCRIPTION:
URL:https://nuffieldclinic.com/event/health-wellness-screening/
CATEGORIES:Medical Screening
ATTACH;FMTTYPE=image/jpeg:https://nuffieldclinic.com/wp-content/uploads/2024/10/Health-Wellness-Screening.jpeg
ORGANIZER;CN="Nuffield Clinic":MAILTO:info@nuffieldclinic.com
END:VEVENT
END:VCALENDAR